BEGIN:VCALENDAR
VERSION:2.0
PRODID:-//Havelland Verteiler - ECPv6.15.20//NONSGML v1.0//EN
CALSCALE:GREGORIAN
METHOD:PUBLISH
X-ORIGINAL-URL:https://havelland-verteiler.de
X-WR-CALDESC:Veranstaltungen für Havelland Verteiler
REFRESH-INTERVAL;VALUE=DURATION:PT1H
X-Robots-Tag:noindex
X-PUBLISHED-TTL:PT1H
BEGIN:VTIMEZONE
TZID:Europe/Berlin
BEGIN:DAYLIGHT
TZOFFSETFROM:+0100
TZOFFSETTO:+0200
TZNAME:CEST
DTSTART:20240331T010000
END:DAYLIGHT
BEGIN:STANDARD
TZOFFSETFROM:+0200
TZOFFSETTO:+0100
TZNAME:CET
DTSTART:20241027T010000
END:STANDARD
BEGIN:DAYLIGHT
TZOFFSETFROM:+0100
TZOFFSETTO:+0200
TZNAME:CEST
DTSTART:20250330T010000
END:DAYLIGHT
BEGIN:STANDARD
TZOFFSETFROM:+0200
TZOFFSETTO:+0100
TZNAME:CET
DTSTART:20251026T010000
END:STANDARD
BEGIN:DAYLIGHT
TZOFFSETFROM:+0100
TZOFFSETTO:+0200
TZNAME:CEST
DTSTART:20260329T010000
END:DAYLIGHT
BEGIN:STANDARD
TZOFFSETFROM:+0200
TZOFFSETTO:+0100
TZNAME:CET
DTSTART:20261025T010000
END:STANDARD
END:VTIMEZONE
BEGIN:VEVENT
DTSTART;TZID=Europe/Berlin:20250919T190000
DTEND;TZID=Europe/Berlin:20250919T210000
DTSTAMP:20260424T021911
CREATED:20250909T082300Z
LAST-MODIFIED:20250909T082301Z
UID:10004319-1758308400-1758315600@havelland-verteiler.de
SUMMARY:Film: „Mit der Faust in die Welt schlagen“
DESCRIPTION:Der Spielfilm „Mit der Faust in die Welt schlagen“ erzählt sensibel von einer Jugend nach der Wende in Ostdeutschland; von der Geschichte einer Familie\, die an den Umständen und sich selbst zerbricht und ihre Söhne an die Neonazi-Szene verliert. Mit anschließendem Publikumsgespräch.\nIn Kooperation mit der Friedrich-Eberst-Stiftung Brandenburg. Eintritt frei
URL:https://havelland-verteiler.de/veranstaltung/film-mit-der-faust-in-die-welt-schlagen/
LOCATION:Scala Kulturpalast (Werder)\, Eisenbahnstr. 182\, Werder\, 14542
ORGANIZER;CN="Aktionsb&uuml%3Bndnis Weltoffenes Werder":MAILTO:info@weltoffenes-werder.de
END:VEVENT
END:VCALENDAR