BEGIN:VCALENDAR
VERSION:2.0
PRODID:-//Havelland Verteiler - ECPv6.15.20//NONSGML v1.0//EN
CALSCALE:GREGORIAN
METHOD:PUBLISH
X-ORIGINAL-URL:https://havelland-verteiler.de
X-WR-CALDESC:Veranstaltungen für Havelland Verteiler
REFRESH-INTERVAL;VALUE=DURATION:PT1H
X-Robots-Tag:noindex
X-PUBLISHED-TTL:PT1H
BEGIN:VTIMEZONE
TZID:Europe/Berlin
BEGIN:DAYLIGHT
TZOFFSETFROM:+0100
TZOFFSETTO:+0200
TZNAME:CEST
DTSTART:20250330T010000
END:DAYLIGHT
BEGIN:STANDARD
TZOFFSETFROM:+0200
TZOFFSETTO:+0100
TZNAME:CET
DTSTART:20251026T010000
END:STANDARD
BEGIN:DAYLIGHT
TZOFFSETFROM:+0100
TZOFFSETTO:+0200
TZNAME:CEST
DTSTART:20260329T010000
END:DAYLIGHT
BEGIN:STANDARD
TZOFFSETFROM:+0200
TZOFFSETTO:+0100
TZNAME:CET
DTSTART:20261025T010000
END:STANDARD
BEGIN:DAYLIGHT
TZOFFSETFROM:+0100
TZOFFSETTO:+0200
TZNAME:CEST
DTSTART:20270328T010000
END:DAYLIGHT
BEGIN:STANDARD
TZOFFSETFROM:+0200
TZOFFSETTO:+0100
TZNAME:CET
DTSTART:20271031T010000
END:STANDARD
END:VTIMEZONE
BEGIN:VEVENT
DTSTART;TZID=Europe/Berlin:20260502T140000
DTEND;TZID=Europe/Berlin:20260503T180000
DTSTAMP:20260423T154231
CREATED:20260422T070705Z
LAST-MODIFIED:20260422T070706Z
UID:10004394-1777730400-1777831200@havelland-verteiler.de
SUMMARY:FRÜHjahresausstellung
DESCRIPTION:Liebe Freund:Innen und Interessierte der Keramischen Werkstätten Glindow\,\n\n\nwir wollen dieses Jahr den Frühling mit Ihnen feiern! \n \nZu unserer FRÜHjahresausstellung laden wir Sie am 2. Mai (14-18 Uhr) und am 3. Mai (11-18 Uhr) herzlich auf das Keramik&KulturGUT Glindow ein.\nZeitgleich finden die offenen Ateliers Brandenburg und das Baumblütenfest Werder statt\, ein Ausflug ins Grüne lohnt sich also doppelt und dreifach… https://offeneateliersbrandenburg.de/\n\nWir haben uns wieder interessante Gäste eingeladen:\n\nUlrike Mengel – Bäume in Scheiben\nHandschmeichler könnte man sie auch nennen\, die organischen Bretter\, meist aus gut gelagertem Weidenholz geschnitten\, zigfach feingeschliffen und geölt. Für den täglichen Gebrauch wie geschaffen.\n\n\nThomas Bratzke aka ZASD – Zeichnung\n„Zwischenbilder“\nDie kleinformatigen Kohlezeichnungen von Thomas Bratzke entstehen in Zwischenzeiten des Alltags. Die Zeichnungen bilden oft etwas Unsichtbares ab\, „ungewußte“ innere Bilder\, die erst ans Tageslicht kommen\, wenn sie gezeichnet werden. Zusammengelegt zu einer grösseren Fläche bilden die Zeichnungen nicht-lineare Erzählstränge in unzähligen Verbindungen aus.\n\nRegina von Schmeling – Blumen\nAls Teil der Slowflowerbewegung baut Regina vom Biohof Werder seit ein paar Jahren ein nachhaltiges und saisonales Blumenfeld in der Region auf. Es gibt Sträucher\, Stauden\, Sommerblumen\, Zwiebel-und Knollenplanzen darauf. Wir freuen uns auf einen bunten Blumenstand!\n\n\nAm Samstag wird es ab 17 Uhr was für die Ohren geben. Es spielen unplugged THE SLEAZIES aus Leipzig und RATs aus Potsdam auf unserem Hof.\n\nWir bieten auch eine kleine Auswahl an Kaffee und Kuchen\, Kaltgetränken und frischen Waffeln an.\n\nKulinarisch kann uns der Biohof Werder leider nicht unterstützen\, da sie vollauf mit der BioBaumblüte beschäftigt sind. Ein Besuch auf der Kirschplantage lohnt sich allerdings sehr. https://www.biohof-werder.de/events-catering/bio-baumbluete/\nIn dem Zusammenhang sollten Sie beachten\, dass die Öffentlichen Verkehrsmittel an diesem Wochenende vermutlich stark frequentiert sein werden. Parkplätze sind leider auch immer rar. Ea gibt jedoch in der Alpenstraße\, beim Ziegeleimuseum\, ca 10 Gehminuten von uns entfernt\, einen größeren\, öffentlichen Parkplatz\, den wir Ihnen empfehlen würden. \n\nDas sollte Sie aber nicht schrecken…\nDenn\, wir freuen uns sehr über Ihren Besuch!\n\nHerzlich\,\nJulia Winter\, Carolin Wachter\, Maren Sahl-Bauer\, Jule und Martin Grade\n\nKeramische Werkstätten Glindow e.V. auf dem\nKeramik&KulturGUT Glindow GbR\nDr.-Külz-Str. 69\n14542 Werder/ OT Glindow\nwww.keramikundkulturgut.de
URL:https://havelland-verteiler.de/veranstaltung/fruehjahresausstellung/
LOCATION:Keramische Werkstätten Glindow\, Dr.-Külz-Str. 69\, Werder / OT Glindow\, 14542
CATEGORIES:Veranstaltung
ATTACH;FMTTYPE=image/jpeg:https://havelland-verteiler.de/wp-content/uploads/2026/04/Fruehjahresausstellung26_Seite_1klein.jpg
ORGANIZER;CN="Keramische Werkst&auml%3Btten Glindow e.V.":MAILTO:keramikundkulturgut@gmx.de
END:VEVENT
END:VCALENDAR