BEGIN:VCALENDAR
VERSION:2.0
PRODID:-//Havelland Verteiler - ECPv6.15.20//NONSGML v1.0//EN
CALSCALE:GREGORIAN
METHOD:PUBLISH
X-ORIGINAL-URL:https://havelland-verteiler.de
X-WR-CALDESC:Veranstaltungen für Havelland Verteiler
REFRESH-INTERVAL;VALUE=DURATION:PT1H
X-Robots-Tag:noindex
X-PUBLISHED-TTL:PT1H
BEGIN:VTIMEZONE
TZID:Europe/Berlin
BEGIN:DAYLIGHT
TZOFFSETFROM:+0100
TZOFFSETTO:+0200
TZNAME:CEST
DTSTART:20240331T010000
END:DAYLIGHT
BEGIN:STANDARD
TZOFFSETFROM:+0200
TZOFFSETTO:+0100
TZNAME:CET
DTSTART:20241027T010000
END:STANDARD
BEGIN:DAYLIGHT
TZOFFSETFROM:+0100
TZOFFSETTO:+0200
TZNAME:CEST
DTSTART:20250330T010000
END:DAYLIGHT
BEGIN:STANDARD
TZOFFSETFROM:+0200
TZOFFSETTO:+0100
TZNAME:CET
DTSTART:20251026T010000
END:STANDARD
BEGIN:DAYLIGHT
TZOFFSETFROM:+0100
TZOFFSETTO:+0200
TZNAME:CEST
DTSTART:20260329T010000
END:DAYLIGHT
BEGIN:STANDARD
TZOFFSETFROM:+0200
TZOFFSETTO:+0100
TZNAME:CET
DTSTART:20261025T010000
END:STANDARD
END:VTIMEZONE
BEGIN:VEVENT
DTSTART;TZID=Europe/Berlin:20251123T110000
DTEND;TZID=Europe/Berlin:20251123T180000
DTSTAMP:20260423T170647
CREATED:20251113T074904Z
LAST-MODIFIED:20251113T074905Z
UID:10004354-1763895600-1763920800@havelland-verteiler.de
SUMMARY:NovemberAusstellung
DESCRIPTION:Liebe FreundInnen und Interessierte der Keramischen Werkstätten Glindow\, \n\n\nnoch leuchtet die Birke goldenfarben und die Gänse und Kraniche ziehen über unseren Hof hinweg\, doch kündigt sich die Vorweihnachtszeit schon deutlich an.\nWie jedes Jahr um diese Zeit\, laden wir Sie herzlich zur NovemberAusstellung auf dem Keramik&KulturGUT Glindow ein. Diese findet am 23. November von 11-18 Uhr statt.\n\nWir haben uns wieder ein paar besondere KollegInnen dazu eingeladen:\n\nJulika Müller – Schmuck und Objekte aus Berlin\n„Seezeichen sind Schmuck und Okjekte\, gegossen in „Verlorener Form“.\nErfinden\, Einformen\, Ausbrennen und dann Gießen ist wie eine lange Reise\, und diese Reise hinterlässt Spuren.“\n\nKathrin Wunnicke-Schmid – Fotografik aus Werder\n„Ich bewege mich in den feinen Übergängen\, dort\, wo etwas langsam auftaucht\, leise wieder geht oder ebenso leise weiter geht. Durch meine Kamera\, durch Erinnerung und tastende Aufmerksamkeit löse ich Schichten\, die sonst unbemerkt bleiben. Ich halte Ambivalenz nicht als Gegensatz\, sondern als sanfte Spannung\, die Beziehungen formt und trägt. So werden meine Bilder und Materialien Hinweise\, leise Spuren davon\, was unter der Oberfläche still weiter atmet.“\n\nFlorian Albrecht – Keramik aus Potsdam\n„In meiner kleinen Ladenwerkstatt in Potsdam Babelsberg fertige ich auf der Drehscheibe Keramikobjekte aus Steinzeug in kleinen Serien an. Der Fokus meiner Arbeiten richtet sich hierbei auf die Form\, Funktion und die Ästhetik von alltäglichen Gebrauchsobjekten. Dabei ist mir ein sachliches und zeitgemäßes Design wichtig. Die Objekte stehen skulptural\, alleine für sich oder fügen sich in das Bestehende mit ein. Dabei ist mir ein harmonischen Verhältnis zwischen Material\, Formgebung\, Form und Farbe wichtig und eine stetige Suche. Hier richtet sich mein Fokus auf die Verwendung von lokalen Lehmen als Glasurrohstoff.“\n\nHofimkerei Boecke – Honig und Bienenwachskerzen aus eigener Produktion\n\nBiohof Werder – Trockenblumen\, Kränze und Zweige\, sowie hausgemachte Suppe und Kuchen\, wärmender Kaffee und Glühwein\n\nUm 15 Uhr findet ein Konzert der RAT´s Unplugged statt.\nDie RAT´s sind eine sehr dynamische\, dreiköpfige Band\, deren Musik sich aus Punkrock der 80er\, Surfrock der 60er und Psychedelicrock der 70er zusammensetzt.\n„Unplugged“ wandeln sie ihre tanzbare\, jedoch eher brachiale Musik\, in bekömmliche Häppchen um.\nHolzkoffer\, Kontrabass und Akustikgitarre werden Mittel zum Zweck und durch die gehaltvolle Stimme des australischen Sängers Andrew untermalt\, erzeugen sie eine ganz neue Stimmung\, zu der man es sich gemütlich machen\, konzentriert lauschen oder auch das Tanzbein schwingen kann.\n\nWir freuen uns\, Sie in den weihnachtlichen Werkstätten\, am Lagerfeuer oder beim Konzert zu treffen und hoffen auf einen gemütlichen Voradventssonntag mit Ihnen\,\n\nHerzliche Grüße\,\nJulia Winter\, Carolin Wachter\, Maren Sahl-Bauer\, Jule und Martin Grade\n\n\nKeramik&KulturGUT Glindow GbR\nDr.-Külz-Str. 69\n14542 Werder/ OT Glindow\nwww.keramikundkulturgut.de
URL:https://havelland-verteiler.de/veranstaltung/novemberausstellung/
LOCATION:Keramische Werkstätten Glindow\, Dr.-Külz-Str. 69\, Werder / OT Glindow\, 14542
CATEGORIES:Veranstaltung
ATTACH;FMTTYPE=image/jpeg:https://havelland-verteiler.de/wp-content/uploads/2025/11/Novemberausstellung25.vorne_.jpeg
ORGANIZER;CN="Keramische Werkst&auml%3Btten Glindow e.V.":MAILTO:keramikundkulturgut@gmx.de
END:VEVENT
END:VCALENDAR