BEGIN:VCALENDAR
VERSION:2.0
PRODID:-//Havelland Verteiler - ECPv6.15.20//NONSGML v1.0//EN
CALSCALE:GREGORIAN
METHOD:PUBLISH
X-ORIGINAL-URL:https://havelland-verteiler.de
X-WR-CALDESC:Veranstaltungen für Havelland Verteiler
REFRESH-INTERVAL;VALUE=DURATION:PT1H
X-Robots-Tag:noindex
X-PUBLISHED-TTL:PT1H
BEGIN:VTIMEZONE
TZID:Europe/Berlin
BEGIN:DAYLIGHT
TZOFFSETFROM:+0100
TZOFFSETTO:+0200
TZNAME:CEST
DTSTART:20240331T010000
END:DAYLIGHT
BEGIN:STANDARD
TZOFFSETFROM:+0200
TZOFFSETTO:+0100
TZNAME:CET
DTSTART:20241027T010000
END:STANDARD
BEGIN:DAYLIGHT
TZOFFSETFROM:+0100
TZOFFSETTO:+0200
TZNAME:CEST
DTSTART:20250330T010000
END:DAYLIGHT
BEGIN:STANDARD
TZOFFSETFROM:+0200
TZOFFSETTO:+0100
TZNAME:CET
DTSTART:20251026T010000
END:STANDARD
BEGIN:DAYLIGHT
TZOFFSETFROM:+0100
TZOFFSETTO:+0200
TZNAME:CEST
DTSTART:20260329T010000
END:DAYLIGHT
BEGIN:STANDARD
TZOFFSETFROM:+0200
TZOFFSETTO:+0100
TZNAME:CET
DTSTART:20261025T010000
END:STANDARD
END:VTIMEZONE
BEGIN:VEVENT
DTSTART;TZID=Europe/Berlin:20250920T160000
DTEND;TZID=Europe/Berlin:20250920T200000
DTSTAMP:20260423T234724
CREATED:20250909T082953Z
LAST-MODIFIED:20250909T082954Z
UID:10004321-1758384000-1758398400@havelland-verteiler.de
SUMMARY:Zusammen bunt! Graffiti und HipHop für alle!
DESCRIPTION:Eigene Graffitis gestalten\, Schablonen herstellen\, Reime und Beats basteln.\nKostenfreier Workshop für Kinder und Jugendliche.\n\n 	Zeit: 16:00 – 20:00 Uhr\n 	Ort: Jugendclub Werder\, Adolf-Damaschke-Str. 35
URL:https://havelland-verteiler.de/veranstaltung/zusammen-bunt-graffiti-und-hiphop-fuer-alle/
LOCATION:Jugendclub Werder\, Adolf-Damaschke-Str. 35\, Werder\, 14542
ORGANIZER;CN="Aktionsb&uuml%3Bndnis Weltoffenes Werder":MAILTO:info@weltoffenes-werder.de
END:VEVENT
END:VCALENDAR