BEGIN:VCALENDAR
VERSION:2.0
PRODID:-//Havelland Verteiler - ECPv6.15.20//NONSGML v1.0//EN
CALSCALE:GREGORIAN
METHOD:PUBLISH
X-WR-CALNAME:Havelland Verteiler
X-ORIGINAL-URL:https://havelland-verteiler.de
X-WR-CALDESC:Veranstaltungen für Havelland Verteiler
REFRESH-INTERVAL;VALUE=DURATION:PT1H
X-Robots-Tag:noindex
X-PUBLISHED-TTL:PT1H
BEGIN:VTIMEZONE
TZID:Europe/Berlin
BEGIN:DAYLIGHT
TZOFFSETFROM:+0100
TZOFFSETTO:+0200
TZNAME:CEST
DTSTART:20250330T010000
END:DAYLIGHT
BEGIN:STANDARD
TZOFFSETFROM:+0200
TZOFFSETTO:+0100
TZNAME:CET
DTSTART:20251026T010000
END:STANDARD
BEGIN:DAYLIGHT
TZOFFSETFROM:+0100
TZOFFSETTO:+0200
TZNAME:CEST
DTSTART:20260329T010000
END:DAYLIGHT
BEGIN:STANDARD
TZOFFSETFROM:+0200
TZOFFSETTO:+0100
TZNAME:CET
DTSTART:20261025T010000
END:STANDARD
BEGIN:DAYLIGHT
TZOFFSETFROM:+0100
TZOFFSETTO:+0200
TZNAME:CEST
DTSTART:20270328T010000
END:DAYLIGHT
BEGIN:STANDARD
TZOFFSETFROM:+0200
TZOFFSETTO:+0100
TZNAME:CET
DTSTART:20271031T010000
END:STANDARD
END:VTIMEZONE
BEGIN:VEVENT
DTSTART;TZID=Europe/Berlin:20260426T100000
DTEND;TZID=Europe/Berlin:20260426T160000
DTSTAMP:20260423T153903
CREATED:20260407T132259Z
LAST-MODIFIED:20260407T132300Z
UID:10004387-1777197600-1777219200@havelland-verteiler.de
SUMMARY:Human Design-Aufstellung & Embodiment
DESCRIPTION:Komm dir selbst näher – auf körperliche und intuitive Weise \n\nMit Human Design System-Aufstellungen & Embodiment-Übungen wird es möglich\, deine eigenen Energien und die Energien von anderen Teilnehmern körperlich spürbar zu machen. Du erlebst direkt\, was in dir steckt – ganz ohne theoretisches Wissen.\n\nWas dich erwartet:\n\n 	Verstehen\, wie du funktionierst: Erfahre\, was dich antreibt und wie du Entscheidungen im Einklang mit dir selbst treffen kannst\n 	Verbindung mit anderen: Erkenne\, wie verschieden Menschen ticken – und wie mehr Verständnis auch neue Beziehungen ermöglicht\n 	Individuelle Erfahrungen auf dem Boden-Mandala: Spüre welche inneren Themen in dir wirken und was daraus entstehen kann. Entdecke dabei neue Perspektiven auf dich und dein Potenzial\n\nAuch Einzel-Aufstellungen sind Bestandteil eines Aufstellungs-Tages. Dabei erspürst du dein eigenes Chart auf dem großen Boden-Mandala.\n\nHierbei sind mehrere Varianten möglich:\n\n 	freie Chart-Aufstellung – du lässt dich von deiner Intuition leiten und bewegst dich selbständig auf dem Boden-Mandala\n 	angeleitete Chart-Aufstellung – ich leite dich durch dein Chart\, gebe Impulse und übermittle Human Design Wissen\n 	Stellvertreter-Aufstellung\n\nInvestition: auf Spendenbasis / mit Einzel-Aufstellung ab 108 €\nLeitung: Amalia Eismar\nAnmeldung: kontakt@amalia-human-design.de
URL:https://havelland-verteiler.de/veranstaltung/human-design-aufstellung-embodiment/
LOCATION:Bad Belzig\, Rosa-Luxemburg-Str.\, Bad Belzig\, 14806
CATEGORIES:Veranstaltung
ATTACH;FMTTYPE=image/jpeg:https://havelland-verteiler.de/wp-content/uploads/2026/03/HD-Aufstellung-FB-Veranst.jpg
ORGANIZER;CN="Human Design System Fl&auml%3Bming":MAILTO:flaeming@h-d-s.de
END:VEVENT
END:VCALENDAR