BEGIN:VCALENDAR
VERSION:2.0
PRODID:-//Havelland Verteiler - ECPv6.15.20//NONSGML v1.0//EN
CALSCALE:GREGORIAN
METHOD:PUBLISH
X-WR-CALNAME:Havelland Verteiler
X-ORIGINAL-URL:https://havelland-verteiler.de
X-WR-CALDESC:Veranstaltungen für Havelland Verteiler
REFRESH-INTERVAL;VALUE=DURATION:PT1H
X-Robots-Tag:noindex
X-PUBLISHED-TTL:PT1H
BEGIN:VTIMEZONE
TZID:Europe/Berlin
BEGIN:DAYLIGHT
TZOFFSETFROM:+0100
TZOFFSETTO:+0200
TZNAME:CEST
DTSTART:20250330T010000
END:DAYLIGHT
BEGIN:STANDARD
TZOFFSETFROM:+0200
TZOFFSETTO:+0100
TZNAME:CET
DTSTART:20251026T010000
END:STANDARD
BEGIN:DAYLIGHT
TZOFFSETFROM:+0100
TZOFFSETTO:+0200
TZNAME:CEST
DTSTART:20260329T010000
END:DAYLIGHT
BEGIN:STANDARD
TZOFFSETFROM:+0200
TZOFFSETTO:+0100
TZNAME:CET
DTSTART:20261025T010000
END:STANDARD
BEGIN:DAYLIGHT
TZOFFSETFROM:+0100
TZOFFSETTO:+0200
TZNAME:CEST
DTSTART:20270328T010000
END:DAYLIGHT
BEGIN:STANDARD
TZOFFSETFROM:+0200
TZOFFSETTO:+0100
TZNAME:CET
DTSTART:20271031T010000
END:STANDARD
END:VTIMEZONE
BEGIN:VEVENT
DTSTART;TZID=Europe/Berlin:20260726T160000
DTEND;TZID=Europe/Berlin:20260731T140000
DTSTAMP:20260424T021419
CREATED:20260128T143101Z
LAST-MODIFIED:20260128T143103Z
UID:10004365-1785081600-1785506400@havelland-verteiler.de
SUMMARY:WWF Junior-Camp: Mutige Mamas\, wilde Kinder\, großes Abenteuer
DESCRIPTION:Schnapp dir deine Mama und komm zu uns ins Camp zwischen Obstbäumen\, Schmetterlingen und dem plätschernden Mühlenbach! Ein Experte bringt uns bei \, Tierspuren zu lesen\, du übst dich im Schnitzen und Schleichen\, beobachtest Tiere\, lernst\, wie man ein Feuer entzündet\, und baust zusammen mit deiner Mama ein Geheimversteck. Beim Spielen\, Baden und Basteln findest du schnell neue Freund:innen. Abends sitzen wir um das Lagerfeuer\, rösten knuspriges Stockbrot und erzählen uns spannende Geschichten.\n\nWAS IHR KIND IM CAMP LERNT\n\nBach\, Wald und Wiese – wie unterschiedlich diese Naturräume sind\, erfahren und erforschen wir in diesem Camp\, bei dem Mütter ihre Kleinen begleiten. Wir verbringen nicht nur Zeit in der Natur\, sondern fühlen uns als Teil von ihr\, wenn wir im Bach baden\, mit Naturmaterialien basteln oder Wildnistechniken üben. So lernt Ihr Kind nicht nur\, sich neuen Herausforderungen zu stellen\, die Erfolgserlebnisse stärken auch Selbstständigkeit und Selbstvertrauen. Sie verbringen besondere Tage mit Ihrem Kind fernab des hektischen Alltags\, haben aber auch Zeit\, sich mit anderen Müttern auszutauschen und zur Ruhe zu kommen.
URL:https://havelland-verteiler.de/veranstaltung/wwf-junior-camp-mutige-mamas-wilde-kinder-grosses-abenteuer/
LOCATION:NaturCamp Ragösen/Fläming\, Bad Belzig\, 14806
CATEGORIES:Veranstaltung
ATTACH;FMTTYPE=image/jpeg:https://havelland-verteiler.de/wp-content/uploads/2026/01/header_2023_JRC_BadUrach©ClaudiaMasur-WWF339.jpg
ORGANIZER;CN="WWF Deutschland":MAILTO:camps@wwf.de
END:VEVENT
END:VCALENDAR