BEGIN:VCALENDAR
VERSION:2.0
PRODID:-//Havelland Verteiler - ECPv6.15.20//NONSGML v1.0//EN
CALSCALE:GREGORIAN
METHOD:PUBLISH
X-WR-CALNAME:Havelland Verteiler
X-ORIGINAL-URL:https://havelland-verteiler.de
X-WR-CALDESC:Veranstaltungen für Havelland Verteiler
REFRESH-INTERVAL;VALUE=DURATION:PT1H
X-Robots-Tag:noindex
X-PUBLISHED-TTL:PT1H
BEGIN:VTIMEZONE
TZID:Europe/Berlin
BEGIN:DAYLIGHT
TZOFFSETFROM:+0100
TZOFFSETTO:+0200
TZNAME:CEST
DTSTART:20240331T010000
END:DAYLIGHT
BEGIN:STANDARD
TZOFFSETFROM:+0200
TZOFFSETTO:+0100
TZNAME:CET
DTSTART:20241027T010000
END:STANDARD
BEGIN:DAYLIGHT
TZOFFSETFROM:+0100
TZOFFSETTO:+0200
TZNAME:CEST
DTSTART:20250330T010000
END:DAYLIGHT
BEGIN:STANDARD
TZOFFSETFROM:+0200
TZOFFSETTO:+0100
TZNAME:CET
DTSTART:20251026T010000
END:STANDARD
BEGIN:DAYLIGHT
TZOFFSETFROM:+0100
TZOFFSETTO:+0200
TZNAME:CEST
DTSTART:20260329T010000
END:DAYLIGHT
BEGIN:STANDARD
TZOFFSETFROM:+0200
TZOFFSETTO:+0100
TZNAME:CET
DTSTART:20261025T010000
END:STANDARD
END:VTIMEZONE
BEGIN:VEVENT
DTSTART;TZID=Europe/Berlin:20251122T120000
DTEND;TZID=Europe/Berlin:20251122T180000
DTSTAMP:20260423T220548
CREATED:20251107T065437Z
LAST-MODIFIED:20251107T065438Z
UID:10004351-1763812800-1763834400@havelland-verteiler.de
SUMMARY:Adventsmarkt „Lichterfest“ auf dem Waldorfcampus Werder
DESCRIPTION:Am 22. November 2025 lädt die Waldorfschule Werder von 12:00 bis 18:00 Uhr alle Familien von nah und fern herzlich zum „Lichterfest“ ein. Zwischen funkelnden Lichtern\, duftenden Köstlichkeiten\, stimmungsvoller Musik und handgefertigten Schätzen erwartet Sie ein liebevoll gestalteter Adventsbasar sowie angeleitetes Adventskranzbinden. \nKinder können mit ihrer Laufkarte eigenständig die zahlreichen Mitmachstationen erkunden – vom Kerzenziehen über die Märchenzeit\, Mäusesuche im Heu\, Stockbrot am Feuer\, Lebkuchen verzieren oder dem Mitmachzirkus gibt es eine Menge zu erleben. \nFür das leibliche Wohl locken Waffeln\, Crêpes\, hausgemachter Kuchen und herzhafte Leckereien. Beim gemeinsamen Singen im Kerzenschein findet der Tag seinen besinnlichen Ausklang. \nDas Lichterfest verbindet Handwerk\, Musik\, Licht und Gemeinschaft – und unterstützt zugleich die Schule und ihre Projekte. \n\nKommen Sie vorbei\, genießen Sie die vorweihnachtliche Atmosphäre! \nOrt: Campus Waldorfschule Werder\, Elsastraße 14-16\, 14542 Werder\nDatum: 22. November 2025 | Zeit: 12:00–18:00 Uhr
URL:https://havelland-verteiler.de/veranstaltung/adventsmarkt-lichterfest-auf-dem-waldorfcampus-werder/
LOCATION:Freie Waldorfschule – Christian Morgenstern –\, Elsastr. 14-16\, Werder (Havel)\, 14542
CATEGORIES:Veranstaltung
ATTACH;FMTTYPE=image/png:https://havelland-verteiler.de/wp-content/uploads/2025/11/Plakat_Lichterfest_Waldorfschule.png
END:VEVENT
BEGIN:VEVENT
DTSTART;TZID=Europe/Berlin:20251011T110000
DTEND;TZID=Europe/Berlin:20251011T140000
DTSTAMP:20260423T220548
CREATED:20251007T105009Z
LAST-MODIFIED:20251007T105010Z
UID:10004345-1760180400-1760191200@havelland-verteiler.de
SUMMARY:Tag der Offenen Tür in der Waldorfschule Werder
DESCRIPTION:Dein Kind an der Waldorfschule Werder? \nAm 11. Oktober findet der Tag der Offenen Tür in der Waldorfschule und -kindergarten von 11-14 Uhr statt. Hier könnt ihr euch vorab einen Eindruck verschaffen\, denn Ende November ist Anmeldeschluss für das Schul- und Kindergartenjahr 2026/2027. \nSchule darf mehr sein als reine Wissensvermittlung. Sie kann ein Ort der Freude\, der Entwicklung und des lebendigen Lernens sein. Genau das bietet die Waldorfschule Werder: einen Raum\, in dem Kinder sich mit Neugier entfalten dürfen – in ihrem eigenen Tempo und mit individueller Begleitung. \nDie Waldorfpädagogik ist darauf ausgerichtet\, jedes Kind ganzheitlich zu fördern. Kleine Klassen ermöglichen persönliche Beziehung zwischen Lehrkräften\, Kindern und Eltern – für ein vertrauensvolles Miteinander. \nAuch in der Oberstufe wird viel Wert auf individuelle Entwicklung gelegt. Für Schüler:innen stehen kreative und handwerkliche Angebote wie Holzwerkstatt\, Kunstraum\, Töpferwerkstatt und Handarbeit zur Verfügung. Praxisnahes Lernen ist hier ein Grundprinzip. Deshalb sind lebensnahe Inhalte und Einblicke in verschiedene Berufe fester Bestandteil des Unterrichts. \nUnd ganz wichtig: An der Waldorfschule Werder können Kinder alle gängigen Schulabschlüsse erreichen – von der 10. Klasse bis zum Abitur. \nKomm vorbei. Anfahrt und Kontaktinfos: waldorfschule-werder.de
URL:https://havelland-verteiler.de/veranstaltung/tag-der-offenen-tuer-in-der-waldorfschule-werder/
LOCATION:Freie Waldorfschule – Christian Morgenstern –\, Elsastr. 14-16\, Werder (Havel)\, 14542
ATTACH;FMTTYPE=image/jpeg:https://havelland-verteiler.de/wp-content/uploads/2025/09/Advertorialbild-Waldorf-Werder.jpg
END:VEVENT
END:VCALENDAR