BEGIN:VCALENDAR
VERSION:2.0
PRODID:-//Havelland Verteiler - ECPv6.15.20//NONSGML v1.0//EN
CALSCALE:GREGORIAN
METHOD:PUBLISH
X-ORIGINAL-URL:https://havelland-verteiler.de
X-WR-CALDESC:Veranstaltungen für Havelland Verteiler
REFRESH-INTERVAL;VALUE=DURATION:PT1H
X-Robots-Tag:noindex
X-PUBLISHED-TTL:PT1H
BEGIN:VTIMEZONE
TZID:Europe/Berlin
BEGIN:DAYLIGHT
TZOFFSETFROM:+0100
TZOFFSETTO:+0200
TZNAME:CEST
DTSTART:20240331T010000
END:DAYLIGHT
BEGIN:STANDARD
TZOFFSETFROM:+0200
TZOFFSETTO:+0100
TZNAME:CET
DTSTART:20241027T010000
END:STANDARD
BEGIN:DAYLIGHT
TZOFFSETFROM:+0100
TZOFFSETTO:+0200
TZNAME:CEST
DTSTART:20250330T010000
END:DAYLIGHT
BEGIN:STANDARD
TZOFFSETFROM:+0200
TZOFFSETTO:+0100
TZNAME:CET
DTSTART:20251026T010000
END:STANDARD
BEGIN:DAYLIGHT
TZOFFSETFROM:+0100
TZOFFSETTO:+0200
TZNAME:CEST
DTSTART:20260329T010000
END:DAYLIGHT
BEGIN:STANDARD
TZOFFSETFROM:+0200
TZOFFSETTO:+0100
TZNAME:CET
DTSTART:20261025T010000
END:STANDARD
END:VTIMEZONE
BEGIN:VEVENT
DTSTART;TZID=Europe/Berlin:20251011T110000
DTEND;TZID=Europe/Berlin:20251012T180000
DTSTAMP:20260424T021911
CREATED:20250623T092850Z
LAST-MODIFIED:20250623T092851Z
UID:10004082-1760180400-1760292000@havelland-verteiler.de
SUMMARY:FestEssen – das Festival für regionalen\, fairen & klimafreundlichen Genuss
DESCRIPTION:Am 11. und 12. Oktober verwandelt sich der Marktplatz in Werder/Havel wieder in eine lebendige Bühne für die Vielfalt von Acker bis Teller! Das FestEssen bietet ein genussvolles Wochenende mit köstlichem Brandenburger Streetfood\, einem farbenfrohen Erzeugermarkt\, kreativen Mitmachwerkstätten und einem abwechslungsreichen Bühnenprogramm – für eine starke\, lebenswerte Region.\n\nAuf dem Erzeugermarkt gibt es regionale Köstlichkeiten zu entdecken: Frisches Obst und Gemüse\, aromatische Pilze\, knackige Walnüsse sowie feine Chutneys\, Pestos\, Honig\, Pralinen und vieles mehr. Für den Hunger zwischendurch gibt es authentisches Streetfood aus Brandenburg – von veganem Gyros über Hirschbratwurst und Pasta bis hin zu Wasserbüffel-Burgern. Dazu werden Kaffee\, Säfte\, Wein und Bier aus der Region serviert.\n\nIn den Mitmachwerkstätten kann Groß und Klein selbst Hand anlegen: Schokolade\, Brot\, Apfelsaft oder Falafel aus Brandenburger Kichererbsen – hier wird mitgemacht\, gelernt und probiert. Den Rahmen bildet ein buntes Bühnenprogramm mit regionalen Bands\, Chören\, Kleinkunst sowie spannenden Talks und Kochshows rund um unser Essen und die Menschen dahinter.
URL:https://havelland-verteiler.de/veranstaltung/festessen-das-festival-fuer-regionalen-fairen-klimafreundlichen-genuss/
LOCATION:Marktplatz Werder\, auf der Insel\, Werder (Havel)
CATEGORIES:Veranstaltung
ATTACH;FMTTYPE=image/png:https://havelland-verteiler.de/wp-content/uploads/2025/06/1920x1200_2025.png
ORGANIZER;CN="Ern&auml%3Bhrungsrat Havelland":MAILTO:havelland@ernaehrungsrat-brandenburg.de
END:VEVENT
END:VCALENDAR