BEGIN:VCALENDAR
VERSION:2.0
PRODID:-//Havelland Verteiler - ECPv6.15.20//NONSGML v1.0//EN
CALSCALE:GREGORIAN
METHOD:PUBLISH
X-WR-CALNAME:Havelland Verteiler
X-ORIGINAL-URL:https://havelland-verteiler.de
X-WR-CALDESC:Veranstaltungen für Havelland Verteiler
REFRESH-INTERVAL;VALUE=DURATION:PT1H
X-Robots-Tag:noindex
X-PUBLISHED-TTL:PT1H
BEGIN:VTIMEZONE
TZID:Europe/Berlin
BEGIN:DAYLIGHT
TZOFFSETFROM:+0100
TZOFFSETTO:+0200
TZNAME:CEST
DTSTART:20250330T010000
END:DAYLIGHT
BEGIN:STANDARD
TZOFFSETFROM:+0200
TZOFFSETTO:+0100
TZNAME:CET
DTSTART:20251026T010000
END:STANDARD
BEGIN:DAYLIGHT
TZOFFSETFROM:+0100
TZOFFSETTO:+0200
TZNAME:CEST
DTSTART:20260329T010000
END:DAYLIGHT
BEGIN:STANDARD
TZOFFSETFROM:+0200
TZOFFSETTO:+0100
TZNAME:CET
DTSTART:20261025T010000
END:STANDARD
BEGIN:DAYLIGHT
TZOFFSETFROM:+0100
TZOFFSETTO:+0200
TZNAME:CEST
DTSTART:20270328T010000
END:DAYLIGHT
BEGIN:STANDARD
TZOFFSETFROM:+0200
TZOFFSETTO:+0100
TZNAME:CET
DTSTART:20271031T010000
END:STANDARD
END:VTIMEZONE
BEGIN:VEVENT
DTSTART;TZID=Europe/Berlin:20260317T000000
DTEND;TZID=Europe/Berlin:20260317T235959
DTSTAMP:20260423T205845
CREATED:20260317T152916Z
LAST-MODIFIED:20260317T152917Z
UID:10004379-1773705600-1773791999@havelland-verteiler.de
SUMMARY:Der untere Rücken und seine Tücken
DESCRIPTION:Dieser Kurs wendet sich an Menschen mit Massage-Vorkenntnissen.\n\nIn diesem Kurs wirst du Kurs wirst du….\n– Anatomie + Physiologie des unteren Rückens wiederholen. \n– Rückenübungen zur Gesunderhaltung und bei Schmerz erlernen. \n– Grundlegende Massagetechniken in Bauchlage kennenlernen. \n– Einfache Diagnostik für LWS und ISG lernen. \n– sanfte Therapietechniken für LWS + ISG-Dysfunktion lernen. \n– Somatik Release für den Rückenstrecker in Bauchlage erlernen. \n– Vielleicht\, (wenn Zeit ist) mit LWS Triggerpunkten arbeiten. \nAnmeldung bei Karin Muuss\, Tel: 015777830992 oder Mail: praxis@k-muuss.de
URL:https://havelland-verteiler.de/veranstaltung/der-untere-ruecken-und-seine-tuecken/
LOCATION:Bad Belzig\, Rosa-Luxemburg-Str.\, Bad Belzig\, 14806
CATEGORIES:Veranstaltung
ATTACH;FMTTYPE=image/jpeg:https://havelland-verteiler.de/wp-content/uploads/2026/03/Dalie-2-hand.bearbeite.jpg
ORGANIZER;CN="Karin Muuss":MAILTO:praxis@k-muuss.de
END:VEVENT
END:VCALENDAR