BEGIN:VCALENDAR
VERSION:2.0
PRODID:-//Havelland Verteiler - ECPv6.15.20//NONSGML v1.0//EN
CALSCALE:GREGORIAN
METHOD:PUBLISH
X-ORIGINAL-URL:https://havelland-verteiler.de
X-WR-CALDESC:Veranstaltungen für Havelland Verteiler
REFRESH-INTERVAL;VALUE=DURATION:PT1H
X-Robots-Tag:noindex
X-PUBLISHED-TTL:PT1H
BEGIN:VTIMEZONE
TZID:Europe/Berlin
BEGIN:DAYLIGHT
TZOFFSETFROM:+0100
TZOFFSETTO:+0200
TZNAME:CEST
DTSTART:20250330T010000
END:DAYLIGHT
BEGIN:STANDARD
TZOFFSETFROM:+0200
TZOFFSETTO:+0100
TZNAME:CET
DTSTART:20251026T010000
END:STANDARD
BEGIN:DAYLIGHT
TZOFFSETFROM:+0100
TZOFFSETTO:+0200
TZNAME:CEST
DTSTART:20260329T010000
END:DAYLIGHT
BEGIN:STANDARD
TZOFFSETFROM:+0200
TZOFFSETTO:+0100
TZNAME:CET
DTSTART:20261025T010000
END:STANDARD
BEGIN:DAYLIGHT
TZOFFSETFROM:+0100
TZOFFSETTO:+0200
TZNAME:CEST
DTSTART:20270328T010000
END:DAYLIGHT
BEGIN:STANDARD
TZOFFSETFROM:+0200
TZOFFSETTO:+0100
TZNAME:CET
DTSTART:20271031T010000
END:STANDARD
END:VTIMEZONE
BEGIN:VEVENT
DTSTART;TZID=Europe/Berlin:20260130T180000
DTEND;TZID=Europe/Berlin:20260131T173000
DTSTAMP:20260423T164149
CREATED:20251208T141918Z
LAST-MODIFIED:20251208T141918Z
UID:10004360-1769796000-1769880600@havelland-verteiler.de
SUMMARY:Wer bin ich - als Führungskraft? Human Design Workshop
DESCRIPTION:Das Human Design schenkt uns viele Hinweise dazu\, wer wir sind. Und es ist ein ausgezeichneter Ratgeber\, um die individuellen Fragen unseres Lebens zu beantworten. In diesem Workshop schauen wir speziell auf unsere Potentiale in Hinblick auf das Thema Führung.\n\n 	Welche Hinweise gibt das Human Design auf mein Führungsverhalten?\n 	Welche Führungsqualitäten sind in mir angelegt?\n 	Welcher Führungsstil passt zu mir?\n 	Welche berufliche Umgebung ist förderlich für mich?\n 	Was passt nicht zu mir und welche Lernfelder gibt es für mich?\n\nDer online Workshop beinhaltet 3 Einheiten à 2\,5 Stunden\n– 30.1. von 18:00 – 20:30 Uhr\n– 31.1. von 10:00 – 12:30 Uhr und 15:00 – 17:30 Uhr\n\nLeitung: Zinaida Moralic & Amalia Eismar
URL:https://havelland-verteiler.de/veranstaltung/wer-bin-ich-als-fuehrungskraft-human-design-workshop/
LOCATION:Online
CATEGORIES:Veranstaltung
ATTACH;FMTTYPE=image/png:https://havelland-verteiler.de/wp-content/uploads/2025/12/FK-Quadrat.png
ORGANIZER;CN="Human Design System Fl&auml%3Bming":MAILTO:flaeming@h-d-s.de
END:VEVENT
END:VCALENDAR