BEGIN:VCALENDAR
VERSION:2.0
PRODID:-//Havelland Verteiler - ECPv6.15.20//NONSGML v1.0//EN
CALSCALE:GREGORIAN
METHOD:PUBLISH
X-WR-CALNAME:Havelland Verteiler
X-ORIGINAL-URL:https://havelland-verteiler.de
X-WR-CALDESC:Veranstaltungen für Havelland Verteiler
REFRESH-INTERVAL;VALUE=DURATION:PT1H
X-Robots-Tag:noindex
X-PUBLISHED-TTL:PT1H
BEGIN:VTIMEZONE
TZID:Europe/Berlin
BEGIN:DAYLIGHT
TZOFFSETFROM:+0100
TZOFFSETTO:+0200
TZNAME:CEST
DTSTART:20240331T010000
END:DAYLIGHT
BEGIN:STANDARD
TZOFFSETFROM:+0200
TZOFFSETTO:+0100
TZNAME:CET
DTSTART:20241027T010000
END:STANDARD
BEGIN:DAYLIGHT
TZOFFSETFROM:+0100
TZOFFSETTO:+0200
TZNAME:CEST
DTSTART:20250330T010000
END:DAYLIGHT
BEGIN:STANDARD
TZOFFSETFROM:+0200
TZOFFSETTO:+0100
TZNAME:CET
DTSTART:20251026T010000
END:STANDARD
BEGIN:DAYLIGHT
TZOFFSETFROM:+0100
TZOFFSETTO:+0200
TZNAME:CEST
DTSTART:20260329T010000
END:DAYLIGHT
BEGIN:STANDARD
TZOFFSETFROM:+0200
TZOFFSETTO:+0100
TZNAME:CET
DTSTART:20261025T010000
END:STANDARD
BEGIN:DAYLIGHT
TZOFFSETFROM:+0100
TZOFFSETTO:+0200
TZNAME:CEST
DTSTART:20270328T010000
END:DAYLIGHT
BEGIN:STANDARD
TZOFFSETFROM:+0200
TZOFFSETTO:+0100
TZNAME:CET
DTSTART:20271031T010000
END:STANDARD
END:VTIMEZONE
BEGIN:VEVENT
DTSTART;TZID=Europe/Berlin:20260307T000000
DTEND;TZID=Europe/Berlin:20260307T235959
DTSTAMP:20260424T004207
CREATED:20260215T155554Z
LAST-MODIFIED:20260215T155555Z
UID:10004372-1772841600-1772927999@havelland-verteiler.de
SUMMARY:HeilsingTag
DESCRIPTION:An den Heil-Sing-Tagen laden wir ein zu einer rituellen Form der archaischen\, musikalischen Gruppenbegegnung – nach unserer tiefen Gewissheit\, dass der Mensch des Menschen beste Medizin ist (nach einem Sprichwort der Mandinka/Senegal).\nAls erfahrene HeilsingerInnen leiten und begleiten wir das (Be-)Singen\, so dass man sowohl in unserer Runde mitsingen als auch sich besingen lassen kann. Im gemeinsamen Singen kann jeder die Gesänge für sich erleben und nutzen. Eine besonders intensive Erfahrung ist das Besungen werden – zu besonderen schönen oder existenziellen Fragen und Anlässen oder einfach als Geschenk an Euch selbst. Darüber sprechen wir dann im Vorfeld und singen dafür eine besondere „Strasse der Lieder“ für denjenigen. Durch die gemeinsame Reise wird ein tiefes inneres Erfahren jenseits des Alltäglichen möglich\, das heilsam\, erhellend\, überraschend\, tragend sein kann.\nAn jedem der Tage stehen dafür 2-3 Plätze zur Verfügung
URL:https://havelland-verteiler.de/veranstaltung/heilsingtag/
LOCATION:NaturCamp Ragösen/Fläming\, Bad Belzig\, 14806
CATEGORIES:Veranstaltung
ATTACH;FMTTYPE=image/jpeg:https://havelland-verteiler.de/wp-content/uploads/2026/02/IMG-20190113-WA0027.jpg
ORGANIZER;CN="Anke Bolz":MAILTO:anke.bolz@lebenslieder.org
END:VEVENT
BEGIN:VEVENT
DTSTART;TZID=Europe/Berlin:20251228T180000
DTEND;TZID=Europe/Berlin:20260101T130000
DTSTAMP:20260424T004207
CREATED:20251208T141938Z
LAST-MODIFIED:20251208T141939Z
UID:10004359-1766944800-1767272400@havelland-verteiler.de
SUMMARY:Silvester-Mantra-Retreat
DESCRIPTION:In der Silvesternacht endet das Alte\, beginnt das Neue. Wir begehen den Übergang ins neue Jahr als einen der Höhepunkte der Raunächte mit einem besonderen Erlebnis und meditieren singend eine ganze Nacht lang vom Abend bis zur Morgendämmerung eines der ältesten und bis heute bedeutsamsten Mantren der Menschheit.
URL:https://havelland-verteiler.de/veranstaltung/silvester-mantra-retreat/
LOCATION:Haus Birnbaum\, Bergstr. 22\, Groß Kreutz/OT Götzer Berge\, 14550
CATEGORIES:Veranstaltung
ATTACH;FMTTYPE=image/jpeg:https://havelland-verteiler.de/wp-content/uploads/2025/12/pink-2893502_1920Miss-Orphelia-pixabay-001.jpg
ORGANIZER;CN="Anke Bolz":MAILTO:anke.bolz@lebenslieder.org
END:VEVENT
BEGIN:VEVENT
DTSTART;TZID=Europe/Berlin:20251221T170000
DTEND;TZID=Europe/Berlin:20251221T190000
DTSTAMP:20260424T004207
CREATED:20251208T141831Z
LAST-MODIFIED:20251208T141832Z
UID:10004358-1766336400-1766343600@havelland-verteiler.de
SUMMARY:Weihnachtslieder - Wunsch - Singen
DESCRIPTION:Wie in einer großen Familie oder Dorfgemeinschaft sind Erwachsene\, Alte und Kinder zum gemeinsamen Singen eingeladen. Glockenlieder\, Weihnachtskanons\, zweite Stimmen (die irgendwie jeder von früher oder von den DDR-Weihnachtsplatten kennt)\, christliche Weihnachtslieder ebenso wie Lieder mit vorchristlichen Wurzeln und neue Lieder und mantrische Gesänge (die in diese wunderbare\, stille Advents- und Weihnachtszeit gehören) sind in unserem musikalischen Pool und Publikum wie auch Chor können sich die Lieder wünschen\, die wir zusammen singen oder die manchmal auch von uns zu erlauschen sind…\n\nDer Eintritt ist bestimmt für die Raummiete an den Förderverein der Voltaire-Schule.\n\nSeid herzlich willkommen!\nDer Stadtteilchor P-West & Anke Bolz 
URL:https://havelland-verteiler.de/veranstaltung/weihnachtslieder-wunsch-singen-3/
LOCATION:Theatersaal der Voltaireschule Potsdam\, Lindenstr. 32-33\, Potsdam\, 14467
CATEGORIES:Veranstaltung
ATTACH;FMTTYPE=image/jpeg:https://havelland-verteiler.de/wp-content/uploads/2025/12/2-Gloeckchen-13-cm-breit-2-Pkt-Rand-2.jpg
ORGANIZER;CN="Anke Bolz":MAILTO:anke.bolz@lebenslieder.org
END:VEVENT
BEGIN:VEVENT
DTSTART;TZID=Europe/Berlin:20251220T150000
DTEND;TZID=Europe/Berlin:20251220T170000
DTSTAMP:20260424T004207
CREATED:20251208T141745Z
LAST-MODIFIED:20251208T141745Z
UID:10004356-1766242800-1766250000@havelland-verteiler.de
SUMMARY:Weihnachtslieder - Wunsch - Singen
DESCRIPTION:Wie in einer großen Familie oder Dorfgemeinschaft sind Erwachsene\, Alte und Kinder zum gemeinsamen Singen eingeladen. Glockenlieder\, Weihnachtskanons\, zweite Stimmen (die irgendwie jeder von früher oder von den DDR-Weihnachtsplatten kennt)\, christliche Weihnachtslieder ebenso wie Lieder mit vorchristlichen Wurzeln und neue Lieder und mantrische Gesänge (die in diese wunderbare\, stille Advents- und Weihnachtszeit gehören) sind in unserem musikalischen Pool und Publikum wie auch Chor können sich die Lieder wünschen\, die wir zusammen singen oder die manchmal auch von uns zu erlauschen sind…\n\n\nDer Eintritt ist frei – wir freuen uns über Spenden.\n\nSeid herzlich willkommen!\nDer Burgchor & Anke Bolz 
URL:https://havelland-verteiler.de/veranstaltung/weihnachtslieder-wunsch-singen/
LOCATION:Waldkapelle Bad Belzig\, Hermann-Lielje-Str. 3\, Bad Belzig\, 14806
CATEGORIES:Veranstaltung
ATTACH;FMTTYPE=image/jpeg:https://havelland-verteiler.de/wp-content/uploads/2025/12/2-Gloeckchen-13-cm-breit-2-Pkt-Rand.jpg
ORGANIZER;CN="Anke Bolz":MAILTO:anke.bolz@lebenslieder.org
END:VEVENT
BEGIN:VEVENT
DTSTART;TZID=Europe/Berlin:20251217T190000
DTEND;TZID=Europe/Berlin:20251217T203000
DTSTAMP:20260424T004207
CREATED:20251208T141803Z
LAST-MODIFIED:20251208T141803Z
UID:10004357-1765998000-1766003400@havelland-verteiler.de
SUMMARY:Weihnachtslieder - Wunsch - Singen
DESCRIPTION:Wie in einer großen Familie oder Dorfgemeinschaft sind Erwachsene\, Alte und Kinder zum gemeinsamen Singen eingeladen. Glockenlieder\, Weihnachtskanons\, zweite Stimmen (die irgendwie jeder von früher oder von den DDR-Weihnachtsplatten kennt)\, christliche Weihnachtslieder ebenso wie Lieder mit vorchristlichen Wurzeln und neue Lieder und mantrische Gesänge (die in diese wunderbare\, stille Advents- und Weihnachtszeit gehören) sind in unserem musikalischen Pool und Publikum wie auch Chor können sich die Lieder wünschen\, die wir zusammen singen oder die manchmal auch von uns zu erlauschen sind…\n\nDer Eintritt ist frei – wir freuen uns über Spenden.\n\nSeid herzlich willkommen!\nDer Burgchor & Anke Bolz  
URL:https://havelland-verteiler.de/veranstaltung/weihnachtslieder-wunsch-singen-2/
LOCATION:Dorfkirche Grimme\, Dorfstrasse\, Grimme\, 39264
ATTACH;FMTTYPE=image/jpeg:https://havelland-verteiler.de/wp-content/uploads/2025/12/2-Gloeckchen-13-cm-breit-2-Pkt-Rand-1.jpg
ORGANIZER;CN="Anke Bolz":MAILTO:anke.bolz@lebenslieder.org
END:VEVENT
BEGIN:VEVENT
DTSTART;TZID=Europe/Berlin:20251108T190000
DTEND;TZID=Europe/Berlin:20251108T220000
DTSTAMP:20260424T004207
CREATED:20250910T160837Z
LAST-MODIFIED:20250910T160838Z
UID:10004329-1762628400-1762639200@havelland-verteiler.de
SUMMARY:Nacht der spirituellen Lieder in Potsdam
DESCRIPTION:Für unsere Liedernacht in diesem Jahr haben wir Iria Schärer eingeladen. Wir freuen uns sehr auf den gemeinsamen Abend mit ihr.\nAm kommenden Tag gibt Iria einen Tagesworkshop. Für beide Veranstaltungen gibt es noch Tickets\, aber wer auf jeden Fall dabei sein will\, sollte sich im Laufe des September anmelden. Wie immer behalten wir noch einige Tickets für die Abendkasse zurück.
URL:https://havelland-verteiler.de/veranstaltung/nacht-der-spirituellen-lieder-in-potsdam/
LOCATION:Kirche am Neuendorfer Anger\, Potsdam-Babelsberg\, Am Neuendorfer Anger\, Potsdam\, 14482
CATEGORIES:Veranstaltung
ATTACH;FMTTYPE=image/jpeg:https://havelland-verteiler.de/wp-content/uploads/2025/09/Portrai-Iria-Bodensee-DSC_0467-web-6485af86.jpg
ORGANIZER;CN="Anke Bolz":MAILTO:anke.bolz@lebenslieder.org
END:VEVENT
BEGIN:VEVENT
DTSTART;TZID=Europe/Berlin:20251101T190000
DTEND;TZID=Europe/Berlin:20251101T210000
DTSTAMP:20260424T004207
CREATED:20250910T160749Z
LAST-MODIFIED:20250910T160749Z
UID:10004331-1762023600-1762030800@havelland-verteiler.de
SUMMARY:Märchen & Lieder für Erwachsene
DESCRIPTION:Wenn es draußen dunkel wird und der Wind um die Ecken braust\, feuern wir in der Jurte wieder den Kamin an\, erzählen Märchen und singen zusammen. Diesmal gibt es eine extra Veranstaltung für Kinder am Nachmittag und eine Märchenstunde am Abend\, die eher für die Erwachsenen ist.
URL:https://havelland-verteiler.de/veranstaltung/maerchen-lieder-fuer-erwachsene/
LOCATION:NaturCamp Ragösen/Fläming\, Bad Belzig\, 14806
CATEGORIES:Veranstaltung
ATTACH;FMTTYPE=image/jpeg:https://havelland-verteiler.de/wp-content/uploads/2025/09/Annika-Hofmann-1.jpg
ORGANIZER;CN="Anke Bolz":MAILTO:anke.bolz@lebenslieder.org
END:VEVENT
BEGIN:VEVENT
DTSTART;TZID=Europe/Berlin:20251101T150000
DTEND;TZID=Europe/Berlin:20251101T170000
DTSTAMP:20260424T004207
CREATED:20250910T160810Z
LAST-MODIFIED:20250910T160810Z
UID:10004330-1762009200-1762016400@havelland-verteiler.de
SUMMARY:Märchen & Lieder für Kinder
DESCRIPTION:Wenn es draußen dunkel wird und der Wind um die Ecken braust\, feuern wir in der Jurte wieder den Kamin an\, erzählen Märchen und singen zusammen. Diesmal gibt es eine extra Veranstaltung für Kinder am Nachmittag und eine Märchenstunde am Abend\, die eher für die Erwachsenen ist.
URL:https://havelland-verteiler.de/veranstaltung/maerchen-lieder-fuer-kinder/
LOCATION:NaturCamp Ragösen/Fläming\, Bad Belzig\, 14806
CATEGORIES:Veranstaltung
ATTACH;FMTTYPE=image/jpeg:https://havelland-verteiler.de/wp-content/uploads/2025/09/Annika-Hofmann.jpg
ORGANIZER;CN="Anke Bolz":MAILTO:anke.bolz@lebenslieder.org
END:VEVENT
BEGIN:VEVENT
DTSTART;TZID=Europe/Berlin:20250920T100000
DTEND;TZID=Europe/Berlin:20250920T170000
DTSTAMP:20260424T004207
CREATED:20250909T095831Z
LAST-MODIFIED:20250909T095832Z
UID:10004328-1758362400-1758387600@havelland-verteiler.de
SUMMARY:Schamanisches Heilsingen
DESCRIPTION:An den Heil-Sing-Tagen laden wir ein zu einer rituellen Form der archaischen\, musikalischen Gruppenbegegnung – nach unserer tiefen Gewissheit\, dass der Mensch des Menschen beste Medizin ist (nach einem Sprichwort der Mandinka/Senegal). Als erfahrene HeilsingerInnen leiten und begleiten wir das (Be-)Singen\, so dass man sowohl in unserer Runde mitsingen als auch sich besingen lassen kann. Im gemeinsamen Singen kann jeder die Gesänge für sich erleben und nutzen. Eine besonders intensive Erfahrung ist das Besungen werden – zu besonderen schönen oder existenziellen Fragen und Anlässen oder einfach als Geschenk an Euch selbst.\nDarüber sprechen wir dann im Vorfeld und singen dafür eine besondere „Strasse der Lieder“ für denjenigen. Durch die gemeinsame Reise wird ein tiefes inneres Erfahren jenseits des Alltäglichen möglich\, das heilsam\, erhellend\, überraschend\, tragend sein kann. \nAn jedem der Tage stehen für das Besingen 2-3 Plätze zur Verfügung\, im Kreis mitsingen kann jede(r)\, der mag.
URL:https://havelland-verteiler.de/veranstaltung/schamanisches-heilsingen/
LOCATION:NaturCamp Ragösen/Fläming\, Bad Belzig\, 14806
CATEGORIES:Veranstaltung
ATTACH;FMTTYPE=image/jpeg:https://havelland-verteiler.de/wp-content/uploads/2025/09/Dani-Geza-pixabay-poppies-174276-1-scaled.jpg
ORGANIZER;CN="Anke Bolz":MAILTO:anke.bolz@lebenslieder.org
END:VEVENT
END:VCALENDAR